BEGIN:VCALENDAR
VERSION:2.0
PRODID:-//Clover Public Library - ECPv6.15.17.1//NONSGML v1.0//EN
CALSCALE:GREGORIAN
METHOD:PUBLISH
X-ORIGINAL-URL:https://cloverlibrarywoodhull.com
X-WR-CALDESC:Events for Clover Public Library
REFRESH-INTERVAL;VALUE=DURATION:PT1H
X-Robots-Tag:noindex
X-PUBLISHED-TTL:PT1H
BEGIN:VTIMEZONE
TZID:America/Chicago
BEGIN:DAYLIGHT
TZOFFSETFROM:-0600
TZOFFSETTO:-0500
TZNAME:CDT
DTSTART:20250309T080000
END:DAYLIGHT
BEGIN:STANDARD
TZOFFSETFROM:-0500
TZOFFSETTO:-0600
TZNAME:CST
DTSTART:20251102T070000
END:STANDARD
BEGIN:DAYLIGHT
TZOFFSETFROM:-0600
TZOFFSETTO:-0500
TZNAME:CDT
DTSTART:20260308T080000
END:DAYLIGHT
BEGIN:STANDARD
TZOFFSETFROM:-0500
TZOFFSETTO:-0600
TZNAME:CST
DTSTART:20261101T070000
END:STANDARD
BEGIN:DAYLIGHT
TZOFFSETFROM:-0600
TZOFFSETTO:-0500
TZNAME:CDT
DTSTART:20270314T080000
END:DAYLIGHT
BEGIN:STANDARD
TZOFFSETFROM:-0500
TZOFFSETTO:-0600
TZNAME:CST
DTSTART:20271107T070000
END:STANDARD
END:VTIMEZONE
BEGIN:VEVENT
DTSTART;TZID=America/Chicago:20260429T083000
DTEND;TZID=America/Chicago:20260429T103000
DTSTAMP:20260420T114204
CREATED:20260325T205311Z
LAST-MODIFIED:20260325T205311Z
UID:1548-1777451400-1777458600@cloverlibrarywoodhull.com
SUMMARY:Exercise Group
DESCRIPTION:You can find the Clover Exercise Group working out to favorite oldies hits at the library on Monday\, Wednesday\, and Friday mornings! This informal class is low-impact and perfect for any fitness level. Whether you’re looking to stay active\, meet new friends\, or just enjoy great music while you move\, this welcoming group is open to you! Please ask for more information about Clover Exercise Group at the Front Desk.
URL:https://cloverlibrarywoodhull.com/meeting-event/exercise-group-50/
END:VEVENT
BEGIN:VEVENT
DTSTART;TZID=America/Chicago:20260501T083000
DTEND;TZID=America/Chicago:20260501T103000
DTSTAMP:20260420T114204
CREATED:20260326T184032Z
LAST-MODIFIED:20260326T184059Z
UID:1578-1777624200-1777631400@cloverlibrarywoodhull.com
SUMMARY:Exercise Group
DESCRIPTION:You can find the Clover Exercise Group working out to favorite oldies hits at the library on Monday\, Wednesday\, and Friday mornings! This informal class is low-impact and perfect for any fitness level. Whether you’re looking to stay active\, meet new friends\, or just enjoy great music while you move\, this welcoming group is open to you! Please ask for more information about Clover Exercise Group at the Front Desk.
URL:https://cloverlibrarywoodhull.com/meeting-event/exercise-group-51/
END:VEVENT
BEGIN:VEVENT
DTSTART;TZID=America/Chicago:20260501T143000
DTEND;TZID=America/Chicago:20260501T170000
DTSTAMP:20260420T114204
CREATED:20260326T183940Z
LAST-MODIFIED:20260326T183940Z
UID:1576-1777645800-1777654800@cloverlibrarywoodhull.com
SUMMARY:D&D Group
DESCRIPTION:This D&D group is currently not open to the public. If you are interesting in starting your own D&D group please let one of the staff members know\, email or call us!
URL:https://cloverlibrarywoodhull.com/meeting-event/dd-group-15/
END:VEVENT
END:VCALENDAR