BEGIN:VCALENDAR
VERSION:2.0
PRODID:-//Clover Public Library - ECPv6.15.17.1//NONSGML v1.0//EN
CALSCALE:GREGORIAN
METHOD:PUBLISH
X-WR-CALNAME:Clover Public Library
X-ORIGINAL-URL:https://cloverlibrarywoodhull.com
X-WR-CALDESC:Events for Clover Public Library
REFRESH-INTERVAL;VALUE=DURATION:PT1H
X-Robots-Tag:noindex
X-PUBLISHED-TTL:PT1H
BEGIN:VTIMEZONE
TZID:America/Chicago
BEGIN:DAYLIGHT
TZOFFSETFROM:-0600
TZOFFSETTO:-0500
TZNAME:CDT
DTSTART:20250309T080000
END:DAYLIGHT
BEGIN:STANDARD
TZOFFSETFROM:-0500
TZOFFSETTO:-0600
TZNAME:CST
DTSTART:20251102T070000
END:STANDARD
BEGIN:DAYLIGHT
TZOFFSETFROM:-0600
TZOFFSETTO:-0500
TZNAME:CDT
DTSTART:20260308T080000
END:DAYLIGHT
BEGIN:STANDARD
TZOFFSETFROM:-0500
TZOFFSETTO:-0600
TZNAME:CST
DTSTART:20261101T070000
END:STANDARD
BEGIN:DAYLIGHT
TZOFFSETFROM:-0600
TZOFFSETTO:-0500
TZNAME:CDT
DTSTART:20270314T080000
END:DAYLIGHT
BEGIN:STANDARD
TZOFFSETFROM:-0500
TZOFFSETTO:-0600
TZNAME:CST
DTSTART:20271107T070000
END:STANDARD
END:VTIMEZONE
BEGIN:VEVENT
DTSTART;TZID=America/Chicago:20260401T083000
DTEND;TZID=America/Chicago:20260401T103000
DTSTAMP:20260420T151204
CREATED:20260325T200149Z
LAST-MODIFIED:20260325T200149Z
UID:1524-1775032200-1775039400@cloverlibrarywoodhull.com
SUMMARY:Exercise Group
DESCRIPTION:You can find the Clover Exercise Group working out to favorite oldies hits at the library on Monday\, Wednesday\, and Friday mornings! This informal class is low-impact and perfect for any fitness level. Whether you’re looking to stay active\, meet new friends\, or just enjoy great music while you move\, this welcoming group is open to you! Please ask for more information about Clover Exercise Group at the Front Desk.
URL:https://cloverlibrarywoodhull.com/meeting-event/exercise-group-38/
END:VEVENT
BEGIN:VEVENT
DTSTART;TZID=America/Chicago:20260331T110000
DTEND;TZID=America/Chicago:20260331T120000
DTSTAMP:20260420T151204
CREATED:20260304T184147Z
LAST-MODIFIED:20260304T184147Z
UID:1489-1774954800-1774958400@cloverlibrarywoodhull.com
SUMMARY:Story Time Egg Hunt
DESCRIPTION:Join us for a special Easter Themed story hour!
URL:https://cloverlibrarywoodhull.com/meeting-event/story-time-egg-hunt/
END:VEVENT
BEGIN:VEVENT
DTSTART;TZID=America/Chicago:20260330T083000
DTEND;TZID=America/Chicago:20260330T103000
DTSTAMP:20260420T151204
CREATED:20260219T195211Z
LAST-MODIFIED:20260219T195211Z
UID:1455-1774859400-1774866600@cloverlibrarywoodhull.com
SUMMARY:Exercise Group
DESCRIPTION:You can find the Clover Exercise Group working out to favorite oldies hits at the library on Monday\, Wednesday\, and Friday mornings! This informal class is low-impact and perfect for any fitness level.  Whether you’re looking to stay active\, meet new friends\, or just enjoy great music while you move\, this welcoming group is open to you!  Please ask for more information about Clover Exercise Group at the Front Desk.
URL:https://cloverlibrarywoodhull.com/meeting-event/exercise-group-37/
END:VEVENT
BEGIN:VEVENT
DTSTART;TZID=America/Chicago:20260327T143000
DTEND;TZID=America/Chicago:20260327T170000
DTSTAMP:20260420T151204
CREATED:20260218T233123Z
LAST-MODIFIED:20260218T233123Z
UID:1453-1774621800-1774630800@cloverlibrarywoodhull.com
SUMMARY:D&D Group
DESCRIPTION:This D&D group is currently not open to the public. If you are interesting in starting your own D&D group please let one of the staff members know\, email or call us!
URL:https://cloverlibrarywoodhull.com/meeting-event/dd-group-13/
END:VEVENT
BEGIN:VEVENT
DTSTART;TZID=America/Chicago:20260327T083000
DTEND;TZID=America/Chicago:20260327T103000
DTSTAMP:20260420T151204
CREATED:20260218T232959Z
LAST-MODIFIED:20260219T195009Z
UID:1451-1774600200-1774607400@cloverlibrarywoodhull.com
SUMMARY:Exercise Group
DESCRIPTION:You can find the Clover Exercise Group working out to favorite oldies hits at the library on Monday\, Wednesday\, and Friday mornings! This informal class is low-impact and perfect for any fitness level.  Whether you’re looking to stay active\, meet new friends\, or just enjoy great music while you move\, this welcoming group is open to you!  Please ask for more information about Clover Exercise Group at the Front Desk.
URL:https://cloverlibrarywoodhull.com/meeting-event/exercise-group-36/
END:VEVENT
BEGIN:VEVENT
DTSTART;TZID=America/Chicago:20260325T083000
DTEND;TZID=America/Chicago:20260325T103000
DTSTAMP:20260420T151204
CREATED:20260218T232431Z
LAST-MODIFIED:20260218T232431Z
UID:1449-1774427400-1774434600@cloverlibrarywoodhull.com
SUMMARY:Exercise Group
DESCRIPTION:You can find the Clover Exercise Group working out to favorite oldies hits at the library on Monday\, Wednesday\, and Friday mornings! This informal class is low-impact and perfect for any fitness level.  Whether you’re looking to stay active\, meet new friends\, or just enjoy great music while you move\, this welcoming group is open to you!  Please ask for more information about Clover Exercise Group at the Front Desk.
URL:https://cloverlibrarywoodhull.com/meeting-event/exercise-group-35/
END:VEVENT
BEGIN:VEVENT
DTSTART;TZID=America/Chicago:20260324T171500
DTEND;TZID=America/Chicago:20260324T183000
DTSTAMP:20260420T151204
CREATED:20260218T231952Z
LAST-MODIFIED:20260317T132955Z
UID:1447-1774372500-1774377000@cloverlibrarywoodhull.com
SUMMARY:Alwood Lions Club Meeting
DESCRIPTION:
URL:https://cloverlibrarywoodhull.com/meeting-event/lions-meeting-2/
END:VEVENT
BEGIN:VEVENT
DTSTART;TZID=America/Chicago:20260324T130000
DTEND;TZID=America/Chicago:20260324T153000
DTSTAMP:20260420T151204
CREATED:20260304T183828Z
LAST-MODIFIED:20260304T183828Z
UID:1487-1774357200-1774366200@cloverlibrarywoodhull.com
SUMMARY:Four Leaf Learning Club
DESCRIPTION:We welcome local homeschooling families of all learning styles and lifestyles to join us for a community-building meeting of our new homeschool group.
URL:https://cloverlibrarywoodhull.com/meeting-event/four-leaf-learning-club/
END:VEVENT
BEGIN:VEVENT
DTSTART;TZID=America/Chicago:20260324T110000
DTEND;TZID=America/Chicago:20260324T120000
DTSTAMP:20260420T151204
CREATED:20260326T184519Z
LAST-MODIFIED:20260326T184519Z
UID:1586-1774350000-1774353600@cloverlibrarywoodhull.com
SUMMARY:Story Time
DESCRIPTION:Join us Tuesdays for Story Hour. Bring your kids to hear a story and engage in activities and crafts.
URL:https://cloverlibrarywoodhull.com/meeting-event/story-time-8/
END:VEVENT
BEGIN:VEVENT
DTSTART;TZID=America/Chicago:20260323T083000
DTEND;TZID=America/Chicago:20260323T103000
DTSTAMP:20260420T151204
CREATED:20260218T231832Z
LAST-MODIFIED:20260219T194949Z
UID:1445-1774254600-1774261800@cloverlibrarywoodhull.com
SUMMARY:Exercise Group
DESCRIPTION:You can find the Clover Exercise Group working out to favorite oldies hits at the library on Monday\, Wednesday\, and Friday mornings! This informal class is low-impact and perfect for any fitness level.  Whether you’re looking to stay active\, meet new friends\, or just enjoy great music while you move\, this welcoming group is open to you!  Please ask for more information about Clover Exercise Group at the Front Desk.
URL:https://cloverlibrarywoodhull.com/meeting-event/exercise-group-34/
END:VEVENT
BEGIN:VEVENT
DTSTART;TZID=America/Chicago:20260320T143000
DTEND;TZID=America/Chicago:20260320T170000
DTSTAMP:20260420T151204
CREATED:20260218T221500Z
LAST-MODIFIED:20260218T232230Z
UID:1443-1774017000-1774026000@cloverlibrarywoodhull.com
SUMMARY:D&D Group
DESCRIPTION:This D&D group is currently not open to the public. If you are interesting in starting your own D&D group please let one of the staff members know\, email or call us!
URL:https://cloverlibrarywoodhull.com/meeting-event/dd-group-12/
END:VEVENT
BEGIN:VEVENT
DTSTART;TZID=America/Chicago:20260320T083000
DTEND;TZID=America/Chicago:20260320T103000
DTSTAMP:20260420T151204
CREATED:20260218T221401Z
LAST-MODIFIED:20260219T194936Z
UID:1441-1773995400-1774002600@cloverlibrarywoodhull.com
SUMMARY:Exercise Group
DESCRIPTION:You can find the Clover Exercise Group working out to favorite oldies hits at the library on Monday\, Wednesday\, and Friday mornings! This informal class is low-impact and perfect for any fitness level.  Whether you’re looking to stay active\, meet new friends\, or just enjoy great music while you move\, this welcoming group is open to you!  Please ask for more information about Clover Exercise Group at the Front Desk.
URL:https://cloverlibrarywoodhull.com/meeting-event/exercise-group-33/
END:VEVENT
BEGIN:VEVENT
DTSTART;TZID=America/Chicago:20260319T090000
DTEND;TZID=America/Chicago:20260319T120000
DTSTAMP:20260420T151204
CREATED:20260218T221304Z
LAST-MODIFIED:20260218T221304Z
UID:1439-1773910800-1773921600@cloverlibrarywoodhull.com
SUMMARY:Hope Unit (Lutheran Church)
DESCRIPTION:
URL:https://cloverlibrarywoodhull.com/meeting-event/hope-unit-lutheran-church-3/
END:VEVENT
BEGIN:VEVENT
DTSTART;TZID=America/Chicago:20260318T083000
DTEND;TZID=America/Chicago:20260318T103000
DTSTAMP:20260420T151204
CREATED:20260218T220644Z
LAST-MODIFIED:20260219T194922Z
UID:1437-1773822600-1773829800@cloverlibrarywoodhull.com
SUMMARY:Exercise Group
DESCRIPTION:You can find the Clover Exercise Group working out to favorite oldies hits at the library on Monday\, Wednesday\, and Friday mornings! This informal class is low-impact and perfect for any fitness level.  Whether you’re looking to stay active\, meet new friends\, or just enjoy great music while you move\, this welcoming group is open to you!  Please ask for more information about Clover Exercise Group at the Front Desk.
URL:https://cloverlibrarywoodhull.com/meeting-event/exercise-group-32/
END:VEVENT
BEGIN:VEVENT
DTSTART;TZID=America/Chicago:20260317T110000
DTEND;TZID=America/Chicago:20260317T120000
DTSTAMP:20260420T151204
CREATED:20260326T184445Z
LAST-MODIFIED:20260326T184445Z
UID:1584-1773745200-1773748800@cloverlibrarywoodhull.com
SUMMARY:Story Time
DESCRIPTION:Join us Tuesdays for Story Hour. Bring your kids to hear a story and engage in activities and crafts.
URL:https://cloverlibrarywoodhull.com/meeting-event/story-time-7/
END:VEVENT
BEGIN:VEVENT
DTSTART;VALUE=DATE:20260317
DTEND;VALUE=DATE:20260318
DTSTAMP:20260420T151204
CREATED:20260317T132339Z
LAST-MODIFIED:20260317T132339Z
UID:1518-1773705600-1773791999@cloverlibrarywoodhull.com
SUMMARY:Library Closed
DESCRIPTION:The library will be closed today\, March 17\, due to weather conditions.  We plan to reopen on Wednesday\, March 18th at 9:00 AM.
URL:https://cloverlibrarywoodhull.com/meeting-event/library-closed-5/
END:VEVENT
BEGIN:VEVENT
DTSTART;VALUE=DATE:20260317
DTEND;VALUE=DATE:20260318
DTSTAMP:20260420T151204
CREATED:20260218T220608Z
LAST-MODIFIED:20260218T220608Z
UID:1435-1773705600-1773791999@cloverlibrarywoodhull.com
SUMMARY:St. Patrick's Day
DESCRIPTION:
URL:https://cloverlibrarywoodhull.com/meeting-event/st-patricks-day/
END:VEVENT
BEGIN:VEVENT
DTSTART;TZID=America/Chicago:20260316T083000
DTEND;TZID=America/Chicago:20260316T103000
DTSTAMP:20260420T151204
CREATED:20260218T220452Z
LAST-MODIFIED:20260219T194909Z
UID:1433-1773649800-1773657000@cloverlibrarywoodhull.com
SUMMARY:Exercise Group
DESCRIPTION:You can find the Clover Exercise Group working out to favorite oldies hits at the library on Monday\, Wednesday\, and Friday mornings! This informal class is low-impact and perfect for any fitness level.  Whether you’re looking to stay active\, meet new friends\, or just enjoy great music while you move\, this welcoming group is open to you!  Please ask for more information about Clover Exercise Group at the Front Desk.
URL:https://cloverlibrarywoodhull.com/meeting-event/exercise-group-31/
END:VEVENT
BEGIN:VEVENT
DTSTART;VALUE=DATE:20260316
DTEND;VALUE=DATE:20260317
DTSTAMP:20260420T151204
CREATED:20260316T131803Z
LAST-MODIFIED:20260317T132432Z
UID:1514-1773619200-1773705599@cloverlibrarywoodhull.com
SUMMARY:Library Closed
DESCRIPTION:The library will be closed today\, March 16\, due to hazardous weather conditions. Stay safe and warm!
URL:https://cloverlibrarywoodhull.com/meeting-event/library-closed-4/
END:VEVENT
BEGIN:VEVENT
DTSTART;TZID=America/Chicago:20260313T143000
DTEND;TZID=America/Chicago:20260313T170000
DTSTAMP:20260420T151204
CREATED:20260218T220347Z
LAST-MODIFIED:20260218T232255Z
UID:1431-1773412200-1773421200@cloverlibrarywoodhull.com
SUMMARY:D&D Group
DESCRIPTION:This D&D group is currently not open to the public. If you are interesting in starting your own D&D group please let one of the staff members know\, email or call us!
URL:https://cloverlibrarywoodhull.com/meeting-event/dd-group-11/
END:VEVENT
BEGIN:VEVENT
DTSTART;TZID=America/Chicago:20260313T080000
DTEND;TZID=America/Chicago:20260313T103000
DTSTAMP:20260420T151204
CREATED:20260218T215728Z
LAST-MODIFIED:20260219T194850Z
UID:1429-1773388800-1773397800@cloverlibrarywoodhull.com
SUMMARY:Exercise Group
DESCRIPTION:You can find the Clover Exercise Group working out to favorite oldies hits at the library on Monday\, Wednesday\, and Friday mornings! This informal class is low-impact and perfect for any fitness level.  Whether you’re looking to stay active\, meet new friends\, or just enjoy great music while you move\, this welcoming group is open to you!  Please ask for more information about Clover Exercise Group at the Front Desk.
URL:https://cloverlibrarywoodhull.com/meeting-event/exercise-group-30/
END:VEVENT
BEGIN:VEVENT
DTSTART;TZID=America/Chicago:20260311T080000
DTEND;TZID=America/Chicago:20260311T103000
DTSTAMP:20260420T151204
CREATED:20260218T213507Z
LAST-MODIFIED:20260219T194832Z
UID:1427-1773216000-1773225000@cloverlibrarywoodhull.com
SUMMARY:Exercise Group
DESCRIPTION:You can find the Clover Exercise Group working out to favorite oldies hits at the library on Monday\, Wednesday\, and Friday mornings! This informal class is low-impact and perfect for any fitness level.  Whether you’re looking to stay active\, meet new friends\, or just enjoy great music while you move\, this welcoming group is open to you!  Please ask for more information about Clover Exercise Group at the Front Desk.
URL:https://cloverlibrarywoodhull.com/meeting-event/exercise-group-29/
END:VEVENT
BEGIN:VEVENT
DTSTART;TZID=America/Chicago:20260310T110000
DTEND;TZID=America/Chicago:20260310T120000
DTSTAMP:20260420T151204
CREATED:20260326T184322Z
LAST-MODIFIED:20260326T184322Z
UID:1580-1773140400-1773144000@cloverlibrarywoodhull.com
SUMMARY:Story Time
DESCRIPTION:Join us Tuesdays for Story Hour. Bring your kids to hear a story and engage in activities and crafts.
URL:https://cloverlibrarywoodhull.com/meeting-event/story-time-5/
END:VEVENT
BEGIN:VEVENT
DTSTART;TZID=America/Chicago:20260309T080000
DTEND;TZID=America/Chicago:20260309T103000
DTSTAMP:20260420T151204
CREATED:20260218T213411Z
LAST-MODIFIED:20260219T194812Z
UID:1425-1773043200-1773052200@cloverlibrarywoodhull.com
SUMMARY:Exercise Group
DESCRIPTION:You can find the Clover Exercise Group working out to favorite oldies hits at the library on Monday\, Wednesday\, and Friday mornings! This informal class is low-impact and perfect for any fitness level.  Whether you’re looking to stay active\, meet new friends\, or just enjoy great music while you move\, this welcoming group is open to you!  Please ask for more information about Clover Exercise Group at the Front Desk.
URL:https://cloverlibrarywoodhull.com/meeting-event/exercise-group-28/
END:VEVENT
BEGIN:VEVENT
DTSTART;TZID=America/Chicago:20260306T143000
DTEND;TZID=America/Chicago:20260306T170000
DTSTAMP:20260420T151204
CREATED:20260218T212036Z
LAST-MODIFIED:20260218T232315Z
UID:1421-1772807400-1772816400@cloverlibrarywoodhull.com
SUMMARY:D&D Group
DESCRIPTION:You can find the Clover Exercise Group working out to favorite oldies hits at the library on Monday\, Wednesday\, and Friday mornings! This informal class is low-impact and perfect for any fitness level.  Whether you’re looking to stay active\, meet new friends\, or just enjoy great music while you move\, this welcoming group is open to you!  Please ask for more information about Clover Exercise Group at the Front Desk.
URL:https://cloverlibrarywoodhull.com/meeting-event/dd-group-10/
END:VEVENT
BEGIN:VEVENT
DTSTART;TZID=America/Chicago:20260306T083000
DTEND;TZID=America/Chicago:20260306T103000
DTSTAMP:20260420T151204
CREATED:20260202T195737Z
LAST-MODIFIED:20260218T212231Z
UID:1274-1772785800-1772793000@cloverlibrarywoodhull.com
SUMMARY:Exercise Group
DESCRIPTION:You can find the Clover Exercise Group working out to favorite oldies hits at the library on Monday\, Wednesday\, and Friday mornings! This informal class is low-impact and perfect for any fitness level.  Whether you’re looking to stay active\, meet new friends\, or just enjoy great music while you move\, this welcoming group is open to you!  Please ask for more information about Clover Exercise Group at the Front Desk.
URL:https://cloverlibrarywoodhull.com/meeting-event/exercise-group-15/
END:VEVENT
BEGIN:VEVENT
DTSTART;TZID=America/Chicago:20260304T083000
DTEND;TZID=America/Chicago:20260304T103000
DTSTAMP:20260420T151204
CREATED:20260202T195632Z
LAST-MODIFIED:20260218T212314Z
UID:1272-1772613000-1772620200@cloverlibrarywoodhull.com
SUMMARY:Exercise Group
DESCRIPTION:You can find the Clover Exercise Group working out to favorite oldies hits at the library on Monday\, Wednesday\, and Friday mornings! This informal class is low-impact and perfect for any fitness level.  Whether you’re looking to stay active\, meet new friends\, or just enjoy great music while you move\, this welcoming group is open to you!  Please ask for more information about Clover Exercise Group at the Front Desk.
URL:https://cloverlibrarywoodhull.com/meeting-event/exercise-group-14/
END:VEVENT
BEGIN:VEVENT
DTSTART;TZID=America/Chicago:20260303T110000
DTEND;TZID=America/Chicago:20260303T120000
DTSTAMP:20260420T151204
CREATED:20260326T184405Z
LAST-MODIFIED:20260326T184418Z
UID:1582-1772535600-1772539200@cloverlibrarywoodhull.com
SUMMARY:Story Time
DESCRIPTION:Join us Tuesdays for Story Hour. Bring your kids to hear a story and engage in activities and crafts.
URL:https://cloverlibrarywoodhull.com/meeting-event/story-time-6/
END:VEVENT
BEGIN:VEVENT
DTSTART;TZID=America/Chicago:20260302T083000
DTEND;TZID=America/Chicago:20260302T103000
DTSTAMP:20260420T151204
CREATED:20260218T210639Z
LAST-MODIFIED:20260219T194739Z
UID:1413-1772440200-1772447400@cloverlibrarywoodhull.com
SUMMARY:Exercise Group
DESCRIPTION:You can find the Clover Exercise Group working out to favorite oldies hits at the library on Monday\, Wednesday\, and Friday mornings! This informal class is low-impact and perfect for any fitness level.  Whether you’re looking to stay active\, meet new friends\, or just enjoy great music while you move\, this welcoming group is open to you!  Please ask for more information about Clover Exercise Group at the Front Desk.
URL:https://cloverlibrarywoodhull.com/meeting-event/exercise-group-24/
END:VEVENT
BEGIN:VEVENT
DTSTART;TZID=America/Chicago:20260227T143000
DTEND;TZID=America/Chicago:20260227T170000
DTSTAMP:20260420T151204
CREATED:20260202T201518Z
LAST-MODIFIED:20260202T201518Z
UID:1302-1772202600-1772211600@cloverlibrarywoodhull.com
SUMMARY:D&D Group
DESCRIPTION:This D&D group is currently not open to the public. If you are interesting in starting your own D&D group please let one of the staff members know\, email or call us!
URL:https://cloverlibrarywoodhull.com/meeting-event/dd-group-9/
END:VEVENT
END:VCALENDAR