BEGIN:VCALENDAR
VERSION:2.0
PRODID:-//Clover Public Library - ECPv6.15.17.1//NONSGML v1.0//EN
CALSCALE:GREGORIAN
METHOD:PUBLISH
X-WR-CALNAME:Clover Public Library
X-ORIGINAL-URL:https://cloverlibrarywoodhull.com
X-WR-CALDESC:Events for Clover Public Library
REFRESH-INTERVAL;VALUE=DURATION:PT1H
X-Robots-Tag:noindex
X-PUBLISHED-TTL:PT1H
BEGIN:VTIMEZONE
TZID:America/Chicago
BEGIN:DAYLIGHT
TZOFFSETFROM:-0600
TZOFFSETTO:-0500
TZNAME:CDT
DTSTART:20250309T080000
END:DAYLIGHT
BEGIN:STANDARD
TZOFFSETFROM:-0500
TZOFFSETTO:-0600
TZNAME:CST
DTSTART:20251102T070000
END:STANDARD
BEGIN:DAYLIGHT
TZOFFSETFROM:-0600
TZOFFSETTO:-0500
TZNAME:CDT
DTSTART:20260308T080000
END:DAYLIGHT
BEGIN:STANDARD
TZOFFSETFROM:-0500
TZOFFSETTO:-0600
TZNAME:CST
DTSTART:20261101T070000
END:STANDARD
BEGIN:DAYLIGHT
TZOFFSETFROM:-0600
TZOFFSETTO:-0500
TZNAME:CDT
DTSTART:20270314T080000
END:DAYLIGHT
BEGIN:STANDARD
TZOFFSETFROM:-0500
TZOFFSETTO:-0600
TZNAME:CST
DTSTART:20271107T070000
END:STANDARD
END:VTIMEZONE
BEGIN:VEVENT
DTSTART;TZID=America/Chicago:20260206T143000
DTEND;TZID=America/Chicago:20260206T170000
DTSTAMP:20260420T221338
CREATED:20260202T201256Z
LAST-MODIFIED:20260202T201256Z
UID:1296-1770388200-1770397200@cloverlibrarywoodhull.com
SUMMARY:D&D Group
DESCRIPTION:This D&D group is currently not open to the public. If you are interesting in starting your own D&D group please let one of the staff members know\, email or call us!
URL:https://cloverlibrarywoodhull.com/meeting-event/dd-group-6/
END:VEVENT
BEGIN:VEVENT
DTSTART;TZID=America/Chicago:20260206T080000
DTEND;TZID=America/Chicago:20260206T100000
DTSTAMP:20260420T221338
CREATED:20260218T210932Z
LAST-MODIFIED:20260218T210932Z
UID:1419-1770364800-1770372000@cloverlibrarywoodhull.com
SUMMARY:Exercise Group
DESCRIPTION:You can find the Clover Exercise Group working out to favorite oldies hits at the library on Monday\, Wednesday\, and Friday mornings! This informal class is low-impact and perfect for any fitness level.  Whether you’re looking to stay active\, meet new friends\, or just enjoy great music while you move\, this welcoming group is open to you!  Please ask for more information about Clover Exercise Group at the Front Desk.
URL:https://cloverlibrarywoodhull.com/meeting-event/exercise-group-27/
END:VEVENT
BEGIN:VEVENT
DTSTART;TZID=America/Chicago:20260204T080000
DTEND;TZID=America/Chicago:20260204T100000
DTSTAMP:20260420T221338
CREATED:20260218T210847Z
LAST-MODIFIED:20260218T210906Z
UID:1417-1770192000-1770199200@cloverlibrarywoodhull.com
SUMMARY:Exercise Group
DESCRIPTION:You can find the Clover Exercise Group working out to favorite oldies hits at the library on Monday\, Wednesday\, and Friday mornings! This informal class is low-impact and perfect for any fitness level.  Whether you’re looking to stay active\, meet new friends\, or just enjoy great music while you move\, this welcoming group is open to you!  Please ask for more information about Clover Exercise Group at the Front Desk.
URL:https://cloverlibrarywoodhull.com/meeting-event/exercise-group-26/
END:VEVENT
BEGIN:VEVENT
DTSTART;TZID=America/Chicago:20260204T080000
DTEND;TZID=America/Chicago:20260204T100000
DTSTAMP:20260420T221338
CREATED:20260218T210811Z
LAST-MODIFIED:20260218T210811Z
UID:1415-1770192000-1770199200@cloverlibrarywoodhull.com
SUMMARY:Exercise Group
DESCRIPTION:You can find the Clover Exercise Group working out to favorite oldies hits at the library on Monday\, Wednesday\, and Friday mornings! This informal class is low-impact and perfect for any fitness level.  Whether you’re looking to stay active\, meet new friends\, or just enjoy great music while you move\, this welcoming group is open to you!  Please ask for more information about Clover Exercise Group at the Front Desk.
URL:https://cloverlibrarywoodhull.com/meeting-event/exercise-group-25/
END:VEVENT
BEGIN:VEVENT
DTSTART;TZID=America/Chicago:20260203T190000
DTEND;TZID=America/Chicago:20260203T220000
DTSTAMP:20260420T221338
CREATED:20260202T195556Z
LAST-MODIFIED:20260202T195556Z
UID:1270-1770145200-1770156000@cloverlibrarywoodhull.com
SUMMARY:Lions Club
DESCRIPTION:
URL:https://cloverlibrarywoodhull.com/meeting-event/lions-club/
END:VEVENT
BEGIN:VEVENT
DTSTART;TZID=America/Chicago:20260203T100000
DTEND;TZID=America/Chicago:20260203T110000
DTSTAMP:20260420T221338
CREATED:20260209T185621Z
LAST-MODIFIED:20260209T185621Z
UID:1395-1770112800-1770116400@cloverlibrarywoodhull.com
SUMMARY:Story Hour
DESCRIPTION:Join us Tuesdays for Story Hour. Bring your kids to hear a story and engage in activities.
URL:https://cloverlibrarywoodhull.com/meeting-event/story-hour/
END:VEVENT
BEGIN:VEVENT
DTSTART;TZID=America/Chicago:20260202T083000
DTEND;TZID=America/Chicago:20260202T103000
DTSTAMP:20260420T221338
CREATED:20260202T195254Z
LAST-MODIFIED:20260202T195254Z
UID:1268-1770021000-1770028200@cloverlibrarywoodhull.com
SUMMARY:Exercise Group
DESCRIPTION:Join us for a fun exercise group session! All ages are welcome and seniors are encouraged.
URL:https://cloverlibrarywoodhull.com/meeting-event/exercise-group-13/
END:VEVENT
BEGIN:VEVENT
DTSTART;TZID=America/Chicago:20260130T143000
DTEND;TZID=America/Chicago:20260130T163000
DTSTAMP:20260420T221338
CREATED:20260114T195825Z
LAST-MODIFIED:20260114T200013Z
UID:1151-1769783400-1769790600@cloverlibrarywoodhull.com
SUMMARY:D&D Group
DESCRIPTION:This D&D group is currently not open to the public. \nIf you are interesting in starting your own D&D group please let one of the staff members know\, email or call us!
URL:https://cloverlibrarywoodhull.com/meeting-event/dd-group-3/
END:VEVENT
BEGIN:VEVENT
DTSTART;TZID=America/Chicago:20260130T083000
DTEND;TZID=America/Chicago:20260130T103000
DTSTAMP:20260420T221338
CREATED:20260114T195648Z
LAST-MODIFIED:20260114T195648Z
UID:1149-1769761800-1769769000@cloverlibrarywoodhull.com
SUMMARY:Exercise Group
DESCRIPTION:Join us for a fun exercise group session! All ages are welcome and seniors are encouraged.
URL:https://cloverlibrarywoodhull.com/meeting-event/exercise-group-7/
END:VEVENT
BEGIN:VEVENT
DTSTART;TZID=America/Chicago:20260128T083000
DTEND;TZID=America/Chicago:20260128T103000
DTSTAMP:20260420T221338
CREATED:20260114T195544Z
LAST-MODIFIED:20260114T195544Z
UID:1147-1769589000-1769596200@cloverlibrarywoodhull.com
SUMMARY:Exercise Group
DESCRIPTION:Join us for a fun exercise group session! All ages are welcome and seniors are encouraged.
URL:https://cloverlibrarywoodhull.com/meeting-event/exercise-group-6/
END:VEVENT
BEGIN:VEVENT
DTSTART;TZID=America/Chicago:20260127T150000
DTEND;TZID=America/Chicago:20260127T173000
DTSTAMP:20260420T221338
CREATED:20260114T195452Z
LAST-MODIFIED:20260114T195452Z
UID:1145-1769526000-1769535000@cloverlibrarywoodhull.com
SUMMARY:Lions Club Meeting
DESCRIPTION:
URL:https://cloverlibrarywoodhull.com/meeting-event/lions-club-meeting/
END:VEVENT
BEGIN:VEVENT
DTSTART;TZID=America/Chicago:20260127T100000
DTEND;TZID=America/Chicago:20260127T110000
DTSTAMP:20260420T221338
CREATED:20260209T185955Z
LAST-MODIFIED:20260209T185955Z
UID:1401-1769508000-1769511600@cloverlibrarywoodhull.com
SUMMARY:Story Hour
DESCRIPTION:Join us Tuesdays for Story Hour. Bring your kids to hear a story and engage in activities.
URL:https://cloverlibrarywoodhull.com/meeting-event/story-hour-4/
END:VEVENT
BEGIN:VEVENT
DTSTART;TZID=America/Chicago:20260126T083000
DTEND;TZID=America/Chicago:20260126T103000
DTSTAMP:20260420T221338
CREATED:20260114T195230Z
LAST-MODIFIED:20260114T195230Z
UID:1143-1769416200-1769423400@cloverlibrarywoodhull.com
SUMMARY:Exercise Group
DESCRIPTION:Join us for a fun exercise group session! All ages are welcome and seniors are encouraged.
URL:https://cloverlibrarywoodhull.com/meeting-event/exercise-group-5/
END:VEVENT
BEGIN:VEVENT
DTSTART;TZID=America/Chicago:20260123T143000
DTEND;TZID=America/Chicago:20260123T163000
DTSTAMP:20260420T221338
CREATED:20260114T195010Z
LAST-MODIFIED:20260114T200027Z
UID:1141-1769178600-1769185800@cloverlibrarywoodhull.com
SUMMARY:D&D Group
DESCRIPTION:This D&D group is currently not open to the public. \nIf you are interesting in starting your own D&D group please let one of the staff members know\, email or call us!
URL:https://cloverlibrarywoodhull.com/meeting-event/dd-group-2/
END:VEVENT
BEGIN:VEVENT
DTSTART;TZID=America/Chicago:20260123T083000
DTEND;TZID=America/Chicago:20260123T103000
DTSTAMP:20260420T221338
CREATED:20260114T194819Z
LAST-MODIFIED:20260114T194819Z
UID:1139-1769157000-1769164200@cloverlibrarywoodhull.com
SUMMARY:Exercise Group
DESCRIPTION:Join us for a fun exercise group session! All ages are welcome and seniors are encouraged.
URL:https://cloverlibrarywoodhull.com/meeting-event/exercise-group-4/
END:VEVENT
BEGIN:VEVENT
DTSTART;TZID=America/Chicago:20260121T190000
DTEND;TZID=America/Chicago:20260121T210000
DTSTAMP:20260420T221338
CREATED:20260114T194426Z
LAST-MODIFIED:20260114T194653Z
UID:1135-1769022000-1769029200@cloverlibrarywoodhull.com
SUMMARY:Clover Library Board Meeting
DESCRIPTION:Join us for our Monthly (unless stated otherwise) Board Meeting! Meet our Library Board Members and voice any questions\, comments\, concerns with us! Every Board Meeting is held at 7 p.m. the third Wednesday of the month. \nThis event is open to the Public.
URL:https://cloverlibrarywoodhull.com/meeting-event/clover-library-board-meeting/
END:VEVENT
BEGIN:VEVENT
DTSTART;TZID=America/Chicago:20260121T083000
DTEND;TZID=America/Chicago:20260121T103000
DTSTAMP:20260420T221338
CREATED:20260114T194137Z
LAST-MODIFIED:20260114T194137Z
UID:1133-1768984200-1768991400@cloverlibrarywoodhull.com
SUMMARY:Exercise Group
DESCRIPTION:Join us for a fun exercise group session! All ages are welcome and seniors are encouraged.
URL:https://cloverlibrarywoodhull.com/meeting-event/exercise-group-3/
END:VEVENT
BEGIN:VEVENT
DTSTART;VALUE=DATE:20260119
DTEND;VALUE=DATE:20260120
DTSTAMP:20260420T221338
CREATED:20260114T200821Z
LAST-MODIFIED:20260114T200821Z
UID:1171-1768780800-1768867199@cloverlibrarywoodhull.com
SUMMARY:Library Closed
DESCRIPTION:
URL:https://cloverlibrarywoodhull.com/meeting-event/library-closed/
END:VEVENT
BEGIN:VEVENT
DTSTART;VALUE=DATE:20260119
DTEND;VALUE=DATE:20260120
DTSTAMP:20260420T221338
CREATED:20260114T194017Z
LAST-MODIFIED:20260114T194050Z
UID:1130-1768780800-1768867199@cloverlibrarywoodhull.com
SUMMARY:Martin Luther King Jr. day
DESCRIPTION:The library is closed on this day for Martin Luther King Jr. Day.
URL:https://cloverlibrarywoodhull.com/meeting-event/closed-for-martin-luther-king-jr-day/
END:VEVENT
BEGIN:VEVENT
DTSTART;TZID=America/Chicago:20260116T143000
DTEND;TZID=America/Chicago:20260116T163000
DTSTAMP:20260420T221338
CREATED:20260114T193459Z
LAST-MODIFIED:20260114T200040Z
UID:1124-1768573800-1768581000@cloverlibrarywoodhull.com
SUMMARY:D&D Group
DESCRIPTION:This D&D group is currently not open to the public. \nIf you are interesting in starting your own D&D group please let one of the staff members know\, email or call us!
URL:https://cloverlibrarywoodhull.com/meeting-event/dd-group/
END:VEVENT
BEGIN:VEVENT
DTSTART;TZID=America/Chicago:20260116T083000
DTEND;TZID=America/Chicago:20260116T103000
DTSTAMP:20260420T221338
CREATED:20260114T193729Z
LAST-MODIFIED:20260114T193729Z
UID:1128-1768552200-1768559400@cloverlibrarywoodhull.com
SUMMARY:Exercise Group
DESCRIPTION:Join us for a fun exercise group session! All ages are welcome and seniors are encouraged.
URL:https://cloverlibrarywoodhull.com/meeting-event/exercise-group/
END:VEVENT
BEGIN:VEVENT
DTSTART;TZID=America/Chicago:20260115T090000
DTEND;TZID=America/Chicago:20260115T120000
DTSTAMP:20260420T221338
CREATED:20260114T192404Z
LAST-MODIFIED:20260114T192404Z
UID:1120-1768467600-1768478400@cloverlibrarywoodhull.com
SUMMARY:Hope Unit (Lutheran Church)
DESCRIPTION:
URL:https://cloverlibrarywoodhull.com/meeting-event/hope-unit-lutheran-church/
END:VEVENT
BEGIN:VEVENT
DTSTART;TZID=America/Chicago:20260114T123000
DTEND;TZID=America/Chicago:20260114T153000
DTSTAMP:20260420T221338
CREATED:20260114T191635Z
LAST-MODIFIED:20260114T191635Z
UID:1115-1768393800-1768404600@cloverlibrarywoodhull.com
SUMMARY:Mexican Train Dominoes
DESCRIPTION:The dominoes group is open to the public so if you’re ever hankering to play some dominoes stop on by.
URL:https://cloverlibrarywoodhull.com/meeting-event/mexican-train-dominoes/
END:VEVENT
BEGIN:VEVENT
DTSTART;TZID=America/Chicago:20260114T080000
DTEND;TZID=America/Chicago:20260114T170000
DTSTAMP:20260420T221338
CREATED:20260114T200312Z
LAST-MODIFIED:20260114T200312Z
UID:1161-1768377600-1768410000@cloverlibrarywoodhull.com
SUMMARY:Exercise Group
DESCRIPTION:Join us for a fun exercise group session! All ages are welcome and seniors are encouraged.
URL:https://cloverlibrarywoodhull.com/meeting-event/exercise-group-9/
END:VEVENT
BEGIN:VEVENT
DTSTART;TZID=America/Chicago:20260112T083000
DTEND;TZID=America/Chicago:20260112T103000
DTSTAMP:20260420T221338
CREATED:20260114T192550Z
LAST-MODIFIED:20260114T193818Z
UID:1122-1768206600-1768213800@cloverlibrarywoodhull.com
SUMMARY:Exercise Group
DESCRIPTION:Join us for a fun exercise group session! All ages are welcome and seniors are encouraged.
URL:https://cloverlibrarywoodhull.com/meeting-event/exercise-group-2/
END:VEVENT
BEGIN:VEVENT
DTSTART;TZID=America/Chicago:20260109T143000
DTEND;TZID=America/Chicago:20260109T163000
DTSTAMP:20260420T221338
CREATED:20260114T200629Z
LAST-MODIFIED:20260114T200629Z
UID:1167-1767969000-1767976200@cloverlibrarywoodhull.com
SUMMARY:D&D Group
DESCRIPTION:This D&D group is currently not open to the public. If you are interesting in starting your own D&D group please let one of the staff members know\, email or call us!
URL:https://cloverlibrarywoodhull.com/meeting-event/dd-group-4/
END:VEVENT
BEGIN:VEVENT
DTSTART;TZID=America/Chicago:20260109T083000
DTEND;TZID=America/Chicago:20260109T103000
DTSTAMP:20260420T221338
CREATED:20260114T200430Z
LAST-MODIFIED:20260114T200540Z
UID:1165-1767947400-1767954600@cloverlibrarywoodhull.com
SUMMARY:Exercise Group
DESCRIPTION:Join us for a fun exercise group session! All ages are welcome and seniors are encouraged.
URL:https://cloverlibrarywoodhull.com/meeting-event/exercise-group-11/
END:VEVENT
BEGIN:VEVENT
DTSTART;TZID=America/Chicago:20260107T083000
DTEND;TZID=America/Chicago:20260107T103000
DTSTAMP:20260420T221338
CREATED:20260114T200332Z
LAST-MODIFIED:20260114T200342Z
UID:1163-1767774600-1767781800@cloverlibrarywoodhull.com
SUMMARY:Exercise Group
DESCRIPTION:Join us for a fun exercise group session! All ages are welcome and seniors are encouraged.
URL:https://cloverlibrarywoodhull.com/meeting-event/exercise-group-10/
END:VEVENT
BEGIN:VEVENT
DTSTART;TZID=America/Chicago:20260105T083000
DTEND;TZID=America/Chicago:20260105T103000
DTSTAMP:20260420T221338
CREATED:20260114T200248Z
LAST-MODIFIED:20260114T200248Z
UID:1159-1767601800-1767609000@cloverlibrarywoodhull.com
SUMMARY:Exercise Group
DESCRIPTION:Join us for a fun exercise group session! All ages are welcome and seniors are encouraged.
URL:https://cloverlibrarywoodhull.com/meeting-event/exercise-group-8/
END:VEVENT
BEGIN:VEVENT
DTSTART;TZID=America/Chicago:20260102T143000
DTEND;TZID=America/Chicago:20260102T163000
DTSTAMP:20260420T221338
CREATED:20260114T202021Z
LAST-MODIFIED:20260114T202021Z
UID:1177-1767364200-1767371400@cloverlibrarywoodhull.com
SUMMARY:D&D Group
DESCRIPTION:This D&D group is currently not open to the public. If you are interesting in starting your own D&D group please let one of the staff members know\, email or call us!
URL:https://cloverlibrarywoodhull.com/meeting-event/dd-group-5/
END:VEVENT
END:VCALENDAR